BEGIN:VCALENDAR
VERSION:2.0
PRODID:-//Operation Care - ECPv6.15.12.2//NONSGML v1.0//EN
CALSCALE:GREGORIAN
METHOD:PUBLISH
X-WR-CALNAME:Operation Care
X-ORIGINAL-URL:https://operationcare.org
X-WR-CALDESC:Events for Operation Care
REFRESH-INTERVAL;VALUE=DURATION:PT1H
X-Robots-Tag:noindex
X-PUBLISHED-TTL:PT1H
BEGIN:VTIMEZONE
TZID:America/Los_Angeles
BEGIN:DAYLIGHT
TZOFFSETFROM:-0800
TZOFFSETTO:-0700
TZNAME:PDT
DTSTART:20190310T100000
END:DAYLIGHT
BEGIN:STANDARD
TZOFFSETFROM:-0700
TZOFFSETTO:-0800
TZNAME:PST
DTSTART:20191103T090000
END:STANDARD
BEGIN:DAYLIGHT
TZOFFSETFROM:-0800
TZOFFSETTO:-0700
TZNAME:PDT
DTSTART:20200308T100000
END:DAYLIGHT
BEGIN:STANDARD
TZOFFSETFROM:-0700
TZOFFSETTO:-0800
TZNAME:PST
DTSTART:20201101T090000
END:STANDARD
BEGIN:DAYLIGHT
TZOFFSETFROM:-0800
TZOFFSETTO:-0700
TZNAME:PDT
DTSTART:20210314T100000
END:DAYLIGHT
BEGIN:STANDARD
TZOFFSETFROM:-0700
TZOFFSETTO:-0800
TZNAME:PST
DTSTART:20211107T090000
END:STANDARD
END:VTIMEZONE
BEGIN:VEVENT
DTSTART;TZID=America/Los_Angeles:20200123T100000
DTEND;TZID=America/Los_Angeles:20200123T110000
DTSTAMP:20260423T100925
CREATED:20200117T220537Z
LAST-MODIFIED:20200117T220537Z
UID:6241-1579773600-1579777200@operationcare.org
SUMMARY:Rural Economic Empowerment Program
DESCRIPTION:
URL:https://operationcare.org/events/rural-economic-empowerment-program/
LOCATION:Operation Care\, 817 Court Street\, Suite 12\, Jackson\, CA\, 95642\, United States
END:VEVENT
BEGIN:VEVENT
DTSTART;TZID=America/Los_Angeles:20200123T100000
DTEND;TZID=America/Los_Angeles:20200123T110000
DTSTAMP:20260423T100925
CREATED:20200117T220537Z
LAST-MODIFIED:20200117T220537Z
UID:6241-1579773600-1579777200@operationcare.org
SUMMARY:Rural Economic Empowerment Program
DESCRIPTION:
URL:https://operationcare.org/events/rural-economic-empowerment-program/
LOCATION:Operation Care\, 817 Court Street\, Suite 12\, Jackson\, CA\, 95642\, United States
END:VEVENT
BEGIN:VEVENT
DTSTART;TZID=America/Los_Angeles:20200123T100000
DTEND;TZID=America/Los_Angeles:20200123T110000
DTSTAMP:20260423T100925
CREATED:20200117T220537Z
LAST-MODIFIED:20200117T220537Z
UID:6241-1579773600-1579777200@operationcare.org
SUMMARY:Rural Economic Empowerment Program
DESCRIPTION:
URL:https://operationcare.org/events/rural-economic-empowerment-program/
LOCATION:Operation Care\, 817 Court Street\, Suite 12\, Jackson\, CA\, 95642\, United States
END:VEVENT
BEGIN:VEVENT
DTSTART;TZID=America/Los_Angeles:20200123T100000
DTEND;TZID=America/Los_Angeles:20200123T110000
DTSTAMP:20260423T100925
CREATED:20200117T220537Z
LAST-MODIFIED:20200117T220537Z
UID:6241-1579773600-1579777200@operationcare.org
SUMMARY:Rural Economic Empowerment Program
DESCRIPTION:
URL:https://operationcare.org/events/rural-economic-empowerment-program/
LOCATION:Operation Care\, 817 Court Street\, Suite 12\, Jackson\, CA\, 95642\, United States
END:VEVENT
BEGIN:VEVENT
DTSTART;TZID=America/Los_Angeles:20200123T100000
DTEND;TZID=America/Los_Angeles:20200123T110000
DTSTAMP:20260423T100925
CREATED:20200117T220537Z
LAST-MODIFIED:20200117T220537Z
UID:6241-1579773600-1579777200@operationcare.org
SUMMARY:Rural Economic Empowerment Program
DESCRIPTION:
URL:https://operationcare.org/events/rural-economic-empowerment-program/
LOCATION:Operation Care\, 817 Court Street\, Suite 12\, Jackson\, CA\, 95642\, United States
END:VEVENT
BEGIN:VEVENT
DTSTART;TZID=America/Los_Angeles:20200123T100000
DTEND;TZID=America/Los_Angeles:20200123T110000
DTSTAMP:20260423T100925
CREATED:20200117T220537Z
LAST-MODIFIED:20200117T220537Z
UID:6241-1579773600-1579777200@operationcare.org
SUMMARY:Rural Economic Empowerment Program
DESCRIPTION:
URL:https://operationcare.org/events/rural-economic-empowerment-program/
LOCATION:Operation Care\, 817 Court Street\, Suite 12\, Jackson\, CA\, 95642\, United States
END:VEVENT
BEGIN:VEVENT
DTSTART;TZID=America/Los_Angeles:20200123T100000
DTEND;TZID=America/Los_Angeles:20200123T110000
DTSTAMP:20260423T100925
CREATED:20200117T220537Z
LAST-MODIFIED:20200117T220537Z
UID:6241-1579773600-1579777200@operationcare.org
SUMMARY:Rural Economic Empowerment Program
DESCRIPTION:
URL:https://operationcare.org/events/rural-economic-empowerment-program/
LOCATION:Operation Care\, 817 Court Street\, Suite 12\, Jackson\, CA\, 95642\, United States
END:VEVENT
BEGIN:VEVENT
DTSTART;TZID=America/Los_Angeles:20200123T100000
DTEND;TZID=America/Los_Angeles:20200123T110000
DTSTAMP:20260423T100925
CREATED:20200117T220537Z
LAST-MODIFIED:20200117T220537Z
UID:6241-1579773600-1579777200@operationcare.org
SUMMARY:Rural Economic Empowerment Program
DESCRIPTION:
URL:https://operationcare.org/events/rural-economic-empowerment-program/
LOCATION:Operation Care\, 817 Court Street\, Suite 12\, Jackson\, CA\, 95642\, United States
END:VEVENT
BEGIN:VEVENT
DTSTART;VALUE=DATE:20200907
DTEND;VALUE=DATE:20200908
DTSTAMP:20260423T100925
CREATED:20200117T185022Z
LAST-MODIFIED:20200117T185022Z
UID:6178-1599436800-1599523199@operationcare.org
SUMMARY:Operation Care/Go Youth/Donation Center Closed
DESCRIPTION:
URL:https://operationcare.org/events/operation-care-go-youth-donation-center-closed-4/
LOCATION:CA
END:VEVENT
BEGIN:VEVENT
DTSTART;TZID=America/Los_Angeles:20200123T100000
DTEND;TZID=America/Los_Angeles:20200123T110000
DTSTAMP:20260423T100925
CREATED:20200117T220537Z
LAST-MODIFIED:20200117T220537Z
UID:6241-1579773600-1579777200@operationcare.org
SUMMARY:Rural Economic Empowerment Program
DESCRIPTION:
URL:https://operationcare.org/events/rural-economic-empowerment-program/
LOCATION:Operation Care\, 817 Court Street\, Suite 12\, Jackson\, CA\, 95642\, United States
END:VEVENT
BEGIN:VEVENT
DTSTART;TZID=America/Los_Angeles:20200123T100000
DTEND;TZID=America/Los_Angeles:20200123T110000
DTSTAMP:20260423T100925
CREATED:20200117T220537Z
LAST-MODIFIED:20200117T220537Z
UID:6241-1579773600-1579777200@operationcare.org
SUMMARY:Rural Economic Empowerment Program
DESCRIPTION:
URL:https://operationcare.org/events/rural-economic-empowerment-program/
LOCATION:Operation Care\, 817 Court Street\, Suite 12\, Jackson\, CA\, 95642\, United States
END:VEVENT
BEGIN:VEVENT
DTSTART;TZID=America/Los_Angeles:20200123T100000
DTEND;TZID=America/Los_Angeles:20200123T110000
DTSTAMP:20260423T100925
CREATED:20200117T220537Z
LAST-MODIFIED:20200117T220537Z
UID:6241-1579773600-1579777200@operationcare.org
SUMMARY:Rural Economic Empowerment Program
DESCRIPTION:
URL:https://operationcare.org/events/rural-economic-empowerment-program/
LOCATION:Operation Care\, 817 Court Street\, Suite 12\, Jackson\, CA\, 95642\, United States
END:VEVENT
BEGIN:VEVENT
DTSTART;TZID=America/Los_Angeles:20200123T100000
DTEND;TZID=America/Los_Angeles:20200123T110000
DTSTAMP:20260423T100925
CREATED:20200117T220537Z
LAST-MODIFIED:20200117T220537Z
UID:6241-1579773600-1579777200@operationcare.org
SUMMARY:Rural Economic Empowerment Program
DESCRIPTION:
URL:https://operationcare.org/events/rural-economic-empowerment-program/
LOCATION:Operation Care\, 817 Court Street\, Suite 12\, Jackson\, CA\, 95642\, United States
END:VEVENT
BEGIN:VEVENT
DTSTART;TZID=America/Los_Angeles:20200123T100000
DTEND;TZID=America/Los_Angeles:20200123T110000
DTSTAMP:20260423T100925
CREATED:20200117T220537Z
LAST-MODIFIED:20200117T220537Z
UID:6241-1579773600-1579777200@operationcare.org
SUMMARY:Rural Economic Empowerment Program
DESCRIPTION:
URL:https://operationcare.org/events/rural-economic-empowerment-program/
LOCATION:Operation Care\, 817 Court Street\, Suite 12\, Jackson\, CA\, 95642\, United States
END:VEVENT
BEGIN:VEVENT
DTSTART;TZID=America/Los_Angeles:20200123T100000
DTEND;TZID=America/Los_Angeles:20200123T110000
DTSTAMP:20260423T100925
CREATED:20200117T220537Z
LAST-MODIFIED:20200117T220537Z
UID:6241-1579773600-1579777200@operationcare.org
SUMMARY:Rural Economic Empowerment Program
DESCRIPTION:
URL:https://operationcare.org/events/rural-economic-empowerment-program/
LOCATION:Operation Care\, 817 Court Street\, Suite 12\, Jackson\, CA\, 95642\, United States
END:VEVENT
BEGIN:VEVENT
DTSTART;TZID=America/Los_Angeles:20200123T100000
DTEND;TZID=America/Los_Angeles:20200123T110000
DTSTAMP:20260423T100925
CREATED:20200117T220537Z
LAST-MODIFIED:20200117T220537Z
UID:6241-1579773600-1579777200@operationcare.org
SUMMARY:Rural Economic Empowerment Program
DESCRIPTION:
URL:https://operationcare.org/events/rural-economic-empowerment-program/
LOCATION:Operation Care\, 817 Court Street\, Suite 12\, Jackson\, CA\, 95642\, United States
END:VEVENT
BEGIN:VEVENT
DTSTART;TZID=America/Los_Angeles:20200123T100000
DTEND;TZID=America/Los_Angeles:20200123T110000
DTSTAMP:20260423T100925
CREATED:20200117T220537Z
LAST-MODIFIED:20200117T220537Z
UID:6241-1579773600-1579777200@operationcare.org
SUMMARY:Rural Economic Empowerment Program
DESCRIPTION:
URL:https://operationcare.org/events/rural-economic-empowerment-program/
LOCATION:Operation Care\, 817 Court Street\, Suite 12\, Jackson\, CA\, 95642\, United States
END:VEVENT
BEGIN:VEVENT
DTSTART;TZID=America/Los_Angeles:20200123T100000
DTEND;TZID=America/Los_Angeles:20200123T110000
DTSTAMP:20260423T100925
CREATED:20200117T220537Z
LAST-MODIFIED:20200117T220537Z
UID:6241-1579773600-1579777200@operationcare.org
SUMMARY:Rural Economic Empowerment Program
DESCRIPTION:
URL:https://operationcare.org/events/rural-economic-empowerment-program/
LOCATION:Operation Care\, 817 Court Street\, Suite 12\, Jackson\, CA\, 95642\, United States
END:VEVENT
BEGIN:VEVENT
DTSTART;VALUE=DATE:20200703
DTEND;VALUE=DATE:20200704
DTSTAMP:20260423T100925
CREATED:20200117T184546Z
LAST-MODIFIED:20200117T184546Z
UID:6173-1593734400-1593820799@operationcare.org
SUMMARY:Operation Care/Go Youth/Donation Center Closed
DESCRIPTION:
URL:https://operationcare.org/events/operation-care-go-youth-donation-center-closed-3/
LOCATION:CA
END:VEVENT
BEGIN:VEVENT
DTSTART;TZID=America/Los_Angeles:20200123T100000
DTEND;TZID=America/Los_Angeles:20200123T110000
DTSTAMP:20260423T100925
CREATED:20200117T220537Z
LAST-MODIFIED:20200117T220537Z
UID:6241-1579773600-1579777200@operationcare.org
SUMMARY:Rural Economic Empowerment Program
DESCRIPTION:
URL:https://operationcare.org/events/rural-economic-empowerment-program/
LOCATION:Operation Care\, 817 Court Street\, Suite 12\, Jackson\, CA\, 95642\, United States
END:VEVENT
BEGIN:VEVENT
DTSTART;TZID=America/Los_Angeles:20200123T100000
DTEND;TZID=America/Los_Angeles:20200123T110000
DTSTAMP:20260423T100925
CREATED:20200117T220537Z
LAST-MODIFIED:20200117T220537Z
UID:6241-1579773600-1579777200@operationcare.org
SUMMARY:Rural Economic Empowerment Program
DESCRIPTION:
URL:https://operationcare.org/events/rural-economic-empowerment-program/
LOCATION:Operation Care\, 817 Court Street\, Suite 12\, Jackson\, CA\, 95642\, United States
END:VEVENT
BEGIN:VEVENT
DTSTART;TZID=America/Los_Angeles:20200123T100000
DTEND;TZID=America/Los_Angeles:20200123T110000
DTSTAMP:20260423T100925
CREATED:20200117T220537Z
LAST-MODIFIED:20200117T220537Z
UID:6241-1579773600-1579777200@operationcare.org
SUMMARY:Rural Economic Empowerment Program
DESCRIPTION:
URL:https://operationcare.org/events/rural-economic-empowerment-program/
LOCATION:Operation Care\, 817 Court Street\, Suite 12\, Jackson\, CA\, 95642\, United States
END:VEVENT
BEGIN:VEVENT
DTSTART;TZID=America/Los_Angeles:20200123T100000
DTEND;TZID=America/Los_Angeles:20200123T110000
DTSTAMP:20260423T100925
CREATED:20200117T220537Z
LAST-MODIFIED:20200117T220537Z
UID:6241-1579773600-1579777200@operationcare.org
SUMMARY:Rural Economic Empowerment Program
DESCRIPTION:
URL:https://operationcare.org/events/rural-economic-empowerment-program/
LOCATION:Operation Care\, 817 Court Street\, Suite 12\, Jackson\, CA\, 95642\, United States
END:VEVENT
BEGIN:VEVENT
DTSTART;TZID=America/Los_Angeles:20200123T100000
DTEND;TZID=America/Los_Angeles:20200123T110000
DTSTAMP:20260423T100925
CREATED:20200117T220537Z
LAST-MODIFIED:20200117T220537Z
UID:6241-1579773600-1579777200@operationcare.org
SUMMARY:Rural Economic Empowerment Program
DESCRIPTION:
URL:https://operationcare.org/events/rural-economic-empowerment-program/
LOCATION:Operation Care\, 817 Court Street\, Suite 12\, Jackson\, CA\, 95642\, United States
END:VEVENT
BEGIN:VEVENT
DTSTART;TZID=America/Los_Angeles:20200530T173000
DTEND;TZID=America/Los_Angeles:20200530T230000
DTSTAMP:20260423T100925
CREATED:20200117T214917Z
LAST-MODIFIED:20200505T161346Z
UID:6237-1590859800-1590879600@operationcare.org
SUMMARY:Heroes Roundup-POSTPONED
DESCRIPTION:POSTPONED!\n  \n\nTICKETS:\nClick ADD TO CART and you can adjust QUANTITY within your shopping cart. \nNOTE:  If you will be bringing CHILDREN 5 AND UNDER (FREE)\, please note this in the “instructions/comments” field during checkout so we may save enough seats for you. \n\nINDIVIDUAL $50\n\n \n\n\n\nUNDER 18 $10\n\n(Children 5 and under are FREE) \n\n 
URL:https://operationcare.org/events/heroes-roundup/
LOCATION:Kennedy Mine\, 12594 Kennedy Mine Rd\, Jackson\, CA\, 95642\, United States
ATTACH;FMTTYPE=image/jpeg:https://operationcare.org/wp-content/uploads/2020/01/2020-roundup-header.jpg
END:VEVENT
BEGIN:VEVENT
DTSTART;TZID=America/Los_Angeles:20200123T100000
DTEND;TZID=America/Los_Angeles:20200123T110000
DTSTAMP:20260423T100925
CREATED:20200117T220537Z
LAST-MODIFIED:20200117T220537Z
UID:6241-1579773600-1579777200@operationcare.org
SUMMARY:Rural Economic Empowerment Program
DESCRIPTION:
URL:https://operationcare.org/events/rural-economic-empowerment-program/
LOCATION:Operation Care\, 817 Court Street\, Suite 12\, Jackson\, CA\, 95642\, United States
END:VEVENT
BEGIN:VEVENT
DTSTART;TZID=America/Los_Angeles:20200123T100000
DTEND;TZID=America/Los_Angeles:20200123T110000
DTSTAMP:20260423T100925
CREATED:20200117T220537Z
LAST-MODIFIED:20200117T220537Z
UID:6241-1579773600-1579777200@operationcare.org
SUMMARY:Rural Economic Empowerment Program
DESCRIPTION:
URL:https://operationcare.org/events/rural-economic-empowerment-program/
LOCATION:Operation Care\, 817 Court Street\, Suite 12\, Jackson\, CA\, 95642\, United States
END:VEVENT
BEGIN:VEVENT
DTSTART;TZID=America/Los_Angeles:20200123T100000
DTEND;TZID=America/Los_Angeles:20200123T110000
DTSTAMP:20260423T100925
CREATED:20200117T220537Z
LAST-MODIFIED:20200117T220537Z
UID:6241-1579773600-1579777200@operationcare.org
SUMMARY:Rural Economic Empowerment Program
DESCRIPTION:
URL:https://operationcare.org/events/rural-economic-empowerment-program/
LOCATION:Operation Care\, 817 Court Street\, Suite 12\, Jackson\, CA\, 95642\, United States
END:VEVENT
BEGIN:VEVENT
DTSTART;TZID=America/Los_Angeles:20200123T100000
DTEND;TZID=America/Los_Angeles:20200123T110000
DTSTAMP:20260423T100925
CREATED:20200117T220537Z
LAST-MODIFIED:20200117T220537Z
UID:6241-1579773600-1579777200@operationcare.org
SUMMARY:Rural Economic Empowerment Program
DESCRIPTION:
URL:https://operationcare.org/events/rural-economic-empowerment-program/
LOCATION:Operation Care\, 817 Court Street\, Suite 12\, Jackson\, CA\, 95642\, United States
END:VEVENT
BEGIN:VEVENT
DTSTART;TZID=America/Los_Angeles:20200123T100000
DTEND;TZID=America/Los_Angeles:20200123T110000
DTSTAMP:20260423T100925
CREATED:20200117T220537Z
LAST-MODIFIED:20200117T220537Z
UID:6241-1579773600-1579777200@operationcare.org
SUMMARY:Rural Economic Empowerment Program
DESCRIPTION:
URL:https://operationcare.org/events/rural-economic-empowerment-program/
LOCATION:Operation Care\, 817 Court Street\, Suite 12\, Jackson\, CA\, 95642\, United States
END:VEVENT
END:VCALENDAR